BEGIN:VCALENDAR
VERSION:2.0
PRODID:SchoolNow
CALSCALE:GREGORIAN
BEGIN:VEVENT
UID:81183d1a-7cec-11ef-9bba-0a58a9feac02
DTSTAMP:20250618T160716Z
SUMMARY:CDD Board Meeting - Jun. 2025 (Canceled)
LOCATION:Hyatt Place Ft Myers At the Forum\, 2600 Champion Ring Rd\, Fort M
 yers\, FL  33905
URL;VALUE=URI:https://www.brightwatercdd.org/calendar/6703904/cdd-board-mee
 ting-jun-2025
DTSTART:20250624T180000Z
DTEND:20250624T190000Z
END:VEVENT
END:VCALENDAR
