BEGIN:VCALENDAR
VERSION:2.0
PRODID:SchoolNow
CALSCALE:GREGORIAN
BEGIN:VEVENT
UID:8ca76cdc-7cec-11ef-9f4d-0a58a9feac02
DTSTAMP:20250715T213542Z
SUMMARY:CDD Board Meeting - Jul. 2025
LOCATION:Hyatt Place Ft Myers At the Forum\, 2600 Champion Ring Rd\, Fort M
 yers\, FL  33905
URL;VALUE=URI:https://www.brightwatercdd.org/calendar/6703917/cdd-board-mee
 ting-jul-2025
DTSTART:20250722T180000Z
DTEND:20250722T190000Z
ATTACH;FILENAME=2025-07-22 Brightwater Agenda.pdf;FMTTYPE=application/pdf:h
 ttps://campussuite-storage.s3.amazonaws.com/prod/1558782/ecdcdfba-a7db-11e
 9-9bec-127b6eacda64/2982068/9e488766-61c3-11f0-94f0-0a58a9feac02/file/2025
 -07-22 Brightwater Agenda.pdf
END:VEVENT
END:VCALENDAR
