BEGIN:VCALENDAR
VERSION:2.0
PRODID:SchoolNow
CALSCALE:GREGORIAN
BEGIN:VEVENT
UID:96658e8e-7cec-11ef-b23f-0afff0bebedf
DTSTAMP:20250820T203119Z
SUMMARY:CDD Board Meeting - Aug. 2025
LOCATION:Hyatt Place Ft Myers At the Forum\, 2600 Champion Ring Rd\, Fort M
 yers\, FL  33905
URL;VALUE=URI:https://www.brightwatercdd.org/calendar/6703944/cdd-board-mee
 ting-aug-2025
DTSTART:20250826T180000Z
DTEND:20250826T190000Z
ATTACH;FILENAME=2025-08-26 Brightwater Agenda.pdf;FMTTYPE=application/pdf:h
 ttps://campussuite-storage.s3.amazonaws.com/prod/1558782/ecdcdfba-a7db-11e
 9-9bec-127b6eacda64/2996320/35003bfc-7e04-11f0-8a0c-0a58a9feac02/file/2025
 -08-26 Brightwater Agenda.pdf
END:VEVENT
END:VCALENDAR
