BEGIN:VCALENDAR
VERSION:2.0
PRODID:SchoolNow
CALSCALE:GREGORIAN
BEGIN:VEVENT
UID:a0e4ae26-7cec-11ef-a556-02026055f355
DTSTAMP:20250919T203019Z
SUMMARY:CDD Board Meeting - Sept. 2025 (Canceled)
LOCATION:Hyatt Place Ft Myers At the Forum\, 2600 Champion Ring Rd\, Fort M
 yers\, FL  33905
URL;VALUE=URI:https://www.brightwatercdd.org/calendar/6704728/cdd-board-mee
 ting-sept-2025
DTSTART:20250923T180000Z
DTEND:20250923T190000Z
ATTACH;FILENAME=2025-09-23 Brightwater Agenda.pdf;FMTTYPE=application/pdf:h
 ttps://campussuite-storage.s3.amazonaws.com/prod/1558782/ecdcdfba-a7db-11e
 9-9bec-127b6eacda64/3007731/004423f6-9330-11f0-8a8c-0afff7dbe6d3/file/2025
 -09-23 Brightwater Agenda.pdf
END:VEVENT
END:VCALENDAR
