BEGIN:VCALENDAR
VERSION:2.0
PRODID:SchoolNow
CALSCALE:GREGORIAN
BEGIN:VEVENT
UID:1448e0c6-93e4-11f0-8b93-0a58a9feac02
DTSTAMP:20250917T163345Z
SUMMARY:CDD Board Meeting - Sept. 2026
LOCATION:Hyatt Place Ft Myers At the Forum\, 2600 Champion Ring Rd\, Fort M
 yers\, FL  33905
URL;VALUE=URI:https://www.brightwatercdd.org/calendar/8632982/cdd-board-mee
 ting-sept-2026
DTSTART:20260922T180000Z
DTEND:20260922T190000Z
END:VEVENT
END:VCALENDAR
